BEGIN:VCALENDAR
VERSION:2.0
PRODID:-//wp-events-plugin.com//7.2.3.1//EN
TZID:America/Toronto
X-WR-TIMEZONE:America/Toronto
BEGIN:VEVENT
UID:516@royalcityquiltersguild.ca
DTSTART;TZID=America/Toronto:20250408T190000
DTEND;TZID=America/Toronto:20250408T210000
DTSTAMP:20240606T201451Z
URL:https://royalcityquiltersguild.ca/events/virtual-meeting-terry-rowland
 /
SUMMARY:Virtual Meeting - Terry Rowland
DESCRIPTION:Scrap Attack\nIn this lecture we will discuss where scraps come
  from and how to organize them so you can use them. Terry will share how s
 he used her to create the 50 plus projects she will share with us. This co
 lorful presentation should inspire you to create your own scrappy masterpi
 eces. Please join Terry and let her share her love of quilting with each a
 nd every one of you.\nTerry’s Bio\nTerry Rowland has been an avid quilte
 r since sewing her first quilt in 1989\, a Pinwheel quilt\, in which she u
 sed a rainbow of colored broadcloth. Terry is a wife and mother of 4 daugh
 ters and is currently living on a farm in Central Alberta.\n\nTerry is kno
 wn worldwide for her enthusiastic approach to quilting\, as well as her di
 stinctive use of color. She always challenges herself to learn and develop
  new techniques to incorporate into all of her projects. She has learned a
  lot over the years\, along her quilting journey\, which sometimes include
 s what not to do.\n\nTerry’s Facebook page: https://www.facebook.com/p/
 Terry-Rowland-T-Row-Studios-100057711420871/
ATTACH;FMTTYPE=image/jpeg:https://royalcityquiltersguild.ca/wp-content/upl
 oads/2024/03/house-quilt-with-Terry-Rowland.jpg
CATEGORIES:Guild Meeting
LOCATION:Online via Zoom\, Online\, via Zoom\, Canada
X-APPLE-STRUCTURED-LOCATION;VALUE=URI;X-ADDRESS=Online\, via Zoom\, Canada;
 X-APPLE-RADIUS=100;X-TITLE=Online via Zoom:geo:0,0
END:VEVENT
BEGIN:VTIMEZONE
TZID:America/Toronto
X-LIC-LOCATION:America/Toronto
BEGIN:DAYLIGHT
DTSTART:20250309T030000
TZOFFSETFROM:-0500
TZOFFSETTO:-0400
TZNAME:EDT
END:DAYLIGHT
END:VTIMEZONE
END:VCALENDAR