BEGIN:VCALENDAR
VERSION:2.0
PRODID:-//wp-events-plugin.com//7.2.3.1//EN
TZID:America/Toronto
X-WR-TIMEZONE:America/Toronto
BEGIN:VEVENT
UID:612@royalcityquiltersguild.ca
DTSTART;TZID=America/Toronto;VALUE=DATE:20261122
DTEND;TZID=America/Toronto;VALUE=DATE:20261127
DTSTAMP:20251129T014455Z
URL:https://royalcityquiltersguild.ca/events/rcqgs-3rd-annual-fall-retreat
 /
SUMMARY:RCQG's 3rd Annual Fall Retreat
DESCRIPTION:We are pleased to announce plans for RCQG’s third annual sewi
 ng retreat\, November 22 – 26\, 2026. This five day/four night event off
 ers attendees distraction-free sewing. Retreat staff will prepare meals an
 d an evening snack (including clean-up!) beginning with dinner on Sunday.\
 n\nWe will open registration for members in the Spring. Once registration 
 opens\, you will be able to register through our online store.\n\n
ATTACH;FMTTYPE=image/jpeg:https://royalcityquiltersguild.ca/wp-content/upl
 oads/2025/11/Retreat.jpg
CATEGORIES:Retreat
LOCATION:Hidden Acres Retreat Centre\, 1921 Line 37\, New Hamburg\, Ontario
 \, Canada
X-APPLE-STRUCTURED-LOCATION;VALUE=URI;X-ADDRESS=1921 Line 37\, New Hamburg\
 , Ontario\, Canada;X-APPLE-RADIUS=100;X-TITLE=Hidden Acres Retreat Centre:
 geo:0,0
END:VEVENT
BEGIN:VTIMEZONE
TZID:America/Toronto
X-LIC-LOCATION:America/Toronto
BEGIN:STANDARD
DTSTART:20261101T010000
TZOFFSETFROM:-0400
TZOFFSETTO:-0500
TZNAME:EST
END:STANDARD
END:VTIMEZONE
END:VCALENDAR