BEGIN:VCALENDAR
VERSION:2.0
PRODID:-//wp-events-plugin.com//7.2.3.1//EN
TZID:America/Toronto
X-WR-TIMEZONE:America/Toronto
BEGIN:VEVENT
UID:631@royalcityquiltersguild.ca
DTSTART;TZID=America/Toronto:20270320T100000
DTEND;TZID=America/Toronto:20270320T170000
DTSTAMP:20260320T044113Z
URL:https://royalcityquiltersguild.ca/events/international-quilting-day-20
 27/
SUMMARY:International Quilting Day 2027
DESCRIPTION:RCQG\, along with our friends at York Heritage and Waterloo Cou
 nty Quilters Guild\, will host our 8th Annual Virtual Celebration of Inter
 national Quilting Day. Visit https://royalcityquiltersguild.ca/iqd2027/ fo
 r more information about this exciting day of keynote speakers\, keynote s
 peakers\, vendors\, prizes\, and a Virtual Quilt Show.\n\n
CATEGORIES:Event
LOCATION:Online via Zoom\, Online\, via Zoom\, Canada
X-APPLE-STRUCTURED-LOCATION;VALUE=URI;X-ADDRESS=Online\, via Zoom\, Canada;
 X-APPLE-RADIUS=100;X-TITLE=Online via Zoom:geo:0,0
END:VEVENT
BEGIN:VTIMEZONE
TZID:America/Toronto
X-LIC-LOCATION:America/Toronto
BEGIN:DAYLIGHT
DTSTART:20270314T030000
TZOFFSETFROM:-0500
TZOFFSETTO:-0400
TZNAME:EDT
END:DAYLIGHT
END:VTIMEZONE
END:VCALENDAR