BEGIN:VCALENDAR
VERSION:2.0
PRODID:-//wp-events-plugin.com//7.2.3.1//EN
TZID:America/Toronto
X-WR-TIMEZONE:America/Toronto
BEGIN:VEVENT
UID:564@royalcityquiltersguild.ca
DTSTART;TZID=America/Toronto:20260321T100000
DTEND;TZID=America/Toronto:20260321T170000
DTSTAMP:20260305T135111Z
URL:https://royalcityquiltersguild.ca/events/international-quilting-day-20
 26-2/
SUMMARY:International Quilting Day 2026
DESCRIPTION:RCQG\, along with our friends at York Heritage and Waterloo Cou
 nty Quilters Guild\, will host our 7th Annual Virtual Celebration of Inter
 national Quilting Day. Visit https://royalcityquiltersguild.ca/iqd2026/ fo
 r more information about this exciting day of keynote speakers\, keynote s
 peakers\, vendors\, prizes\, and a Virtual Quilt Show.\n\n
ATTACH;FMTTYPE=image/jpeg:https://royalcityquiltersguild.ca/wp-content/upl
 oads/2025/04/2026_IQD_Save_Date.png
CATEGORIES:Event
LOCATION:Online via Zoom\, Online\, via Zoom\, Canada
X-APPLE-STRUCTURED-LOCATION;VALUE=URI;X-ADDRESS=Online\, via Zoom\, Canada;
 X-APPLE-RADIUS=100;X-TITLE=Online via Zoom:geo:0,0
END:VEVENT
BEGIN:VTIMEZONE
TZID:America/Toronto
X-LIC-LOCATION:America/Toronto
BEGIN:DAYLIGHT
DTSTART:20260308T030000
TZOFFSETFROM:-0500
TZOFFSETTO:-0400
TZNAME:EDT
END:DAYLIGHT
END:VTIMEZONE
END:VCALENDAR