BEGIN:VCALENDAR
VERSION:2.0
PRODID:-//wp-events-plugin.com//7.2.3.1//EN
TZID:America/Toronto
X-WR-TIMEZONE:America/Toronto
BEGIN:VEVENT
UID:574@royalcityquiltersguild.ca
DTSTART;TZID=America/Toronto:20260430T190000
DTEND;TZID=America/Toronto:20260430T200000
DTSTAMP:20250425T193433Z
URL:https://royalcityquiltersguild.ca/events/fireside-chat-for-new-members
 -3/
SUMMARY:Fireside Chat for New Members
DESCRIPTION:Join us Thursday\, April 30 at our Virtual Fireside Chat for ne
 w members!\n\nYou'll meet other new members as well as members of the Guil
 d Executive.\n\nIt's a great opportunity to learn more about RCQG\, ask qu
 estions\, and start your quilting journey with us.
ATTACH;FMTTYPE=image/jpeg:https://royalcityquiltersguild.ca/wp-content/upl
 oads/2023/05/relaxing-1979674_640.jpg
CATEGORIES:Event,Fireside Chat
LOCATION:Online via Zoom\, Online\, via Zoom\, Canada
X-APPLE-STRUCTURED-LOCATION;VALUE=URI;X-ADDRESS=Online\, via Zoom\, Canada;
 X-APPLE-RADIUS=100;X-TITLE=Online via Zoom:geo:0,0
END:VEVENT
BEGIN:VTIMEZONE
TZID:America/Toronto
X-LIC-LOCATION:America/Toronto
BEGIN:DAYLIGHT
DTSTART:20260308T030000
TZOFFSETFROM:-0500
TZOFFSETTO:-0400
TZNAME:EDT
END:DAYLIGHT
END:VTIMEZONE
END:VCALENDAR